BEGIN:VCALENDAR
VERSION:2.0
PRODID:-//Archer Gowland Redshaw - ECPv6.15.17.1//NONSGML v1.0//EN
CALSCALE:GREGORIAN
METHOD:PUBLISH
X-WR-CALNAME:Archer Gowland Redshaw
X-ORIGINAL-URL:https://agredshaw.com.au
X-WR-CALDESC:Events for Archer Gowland Redshaw
REFRESH-INTERVAL;VALUE=DURATION:PT1H
X-Robots-Tag:noindex
X-PUBLISHED-TTL:PT1H
BEGIN:VTIMEZONE
TZID:Australia/Brisbane
BEGIN:STANDARD
TZOFFSETFROM:+1000
TZOFFSETTO:+1000
TZNAME:AEST
DTSTART:20200101T000000
END:STANDARD
END:VTIMEZONE
BEGIN:VEVENT
DTSTART;TZID=Australia/Brisbane:20210820T120000
DTEND;TZID=Australia/Brisbane:20210820T130000
DTSTAMP:20260422T030042
CREATED:20210805T234724Z
LAST-MODIFIED:20240118T002513Z
UID:1047-1629460800-1629464400@agredshaw.com.au
SUMMARY:Business Planning - Preparing your Pathway for Business Success | Virtual Masterclass
DESCRIPTION:We’ve all hear the age-old adage “failing to plan\, is planning to fail” and with two-feet firmly set in the New Financial Year\, building & documenting business strategies is critically important to ensuring you achieve your goals and aspirations. \nTo assist in this process\, you’re invited to join Archer Gowland Redshaw for our exclusive virtual masterclass program: Business Planning – Preparing Your Pathway for Success – Friday\, 20th August 2021 (12:00noon – 1:00PM). \nOur 45-minute training workshop aims to provide practical solutions on how to develop a suite of strategies for your business and help prepare you as business owners\, key personnel and management teams for Financial Year 2021/22. \nAcross the session\, Smiljan Jankovic (Managing Director\, AGR) will cover a variety of tailored topics and simplify the complexities of business planning\, including: \n\na ‘deep dive’ into Financial & Non-Financial considerations;\nthe importance of historical information and how this impacts future goal setting;\ncontrasting the Good\, the Bad\, and the Ugly in FY20/21; and\nformulating Cash-Flow Projections & Key Performance Indicators\n\nAlso in the session\, Smiljan will be conducting an open Q&A – providing you with the opportunity to gain further insights and clarity. \nWhether you’re a business owner or part of a management team\, we highly recommend joining the session to help kick-start your business planning strategy\, complement existing processes\, or simply as a refresher.
URL:https://agredshaw.com.au/event/business-planning-preparing-your-pathway-for-business-success-virtual-masterclass/
LOCATION:Virtual Masterclass
ORGANIZER;CN="Smiljan Jankovic":MAILTO:chrisl@agredshaw.com.au
END:VEVENT
END:VCALENDAR